BEGIN:VCALENDAR
VERSION:2.0
PRODID:icalendar-ruby
CALSCALE:GREGORIAN
METHOD:PUBLISH
BEGIN:VEVENT
DTSTAMP:20260421T155614Z
UID:62-398389@lifepointecrockett.com
DTSTART:20260916T233000Z
DTEND:20260917T003000Z
CLASS:PUBLIC
CREATED:20260421T093813
DESCRIPTION:
LAST-MODIFIED:20260421T093813
LOCATION:1417 E. Loop 304\, Crockett\, Texas 75835
SUMMARY:Prayer Service
URL;VALUE=URI:https://www.lifepointecrockett.com/events/prayer-service/2026
 -09-16
ATTACH;FILENAME=men-prayer-1.png;FMTTYPE=image/png:https://dq5pwpg1q8ru0.cl
 oudfront.net/2026/03/01/12/19/28/85911fe2-f936-4c49-96f2-810653e806de/men-
 prayer-1.png
END:VEVENT
END:VCALENDAR
